BEGIN:VCALENDAR
VERSION:2.0
PRODID:-// - ECPv6.15.16//NONSGML v1.0//EN
CALSCALE:GREGORIAN
METHOD:PUBLISH
X-ORIGINAL-URL:https://xn--kschv-lbeck-zhb.de
X-WR-CALDESC:Veranstaltungen für 
REFRESH-INTERVAL;VALUE=DURATION:PT1H
X-Robots-Tag:noindex
X-PUBLISHED-TTL:PT1H
BEGIN:VTIMEZONE
TZID:Europe/Berlin
BEGIN:DAYLIGHT
TZOFFSETFROM:+0100
TZOFFSETTO:+0200
TZNAME:CEST
DTSTART:20250330T010000
END:DAYLIGHT
BEGIN:STANDARD
TZOFFSETFROM:+0200
TZOFFSETTO:+0100
TZNAME:CET
DTSTART:20251026T010000
END:STANDARD
BEGIN:DAYLIGHT
TZOFFSETFROM:+0100
TZOFFSETTO:+0200
TZNAME:CEST
DTSTART:20260329T010000
END:DAYLIGHT
BEGIN:STANDARD
TZOFFSETFROM:+0200
TZOFFSETTO:+0100
TZNAME:CET
DTSTART:20261025T010000
END:STANDARD
BEGIN:DAYLIGHT
TZOFFSETFROM:+0100
TZOFFSETTO:+0200
TZNAME:CEST
DTSTART:20270328T010000
END:DAYLIGHT
BEGIN:STANDARD
TZOFFSETFROM:+0200
TZOFFSETTO:+0100
TZNAME:CET
DTSTART:20271031T010000
END:STANDARD
END:VTIMEZONE
BEGIN:VEVENT
DTSTART;TZID=Europe/Berlin:20260303T180000
DTEND;TZID=Europe/Berlin:20260303T180000
DTSTAMP:20260420T094913
CREATED:20260212T151331Z
LAST-MODIFIED:20260212T151331Z
UID:4806-1772560800-1772560800@xn--kschv-lbeck-zhb.de
SUMMARY:RWK LG-Auflage DSB
DESCRIPTION:20:30
URL:https://xn--kschv-lbeck-zhb.de/event/rwk-lg-auflage-dsb-2/
LOCATION:Schützenverein Moisling von 1971 e.V.\, August-Bebel-Straße 57\, Lübeck\, 23560
END:VEVENT
BEGIN:VEVENT
DTSTART;TZID=Europe/Berlin:20260306T180000
DTEND;TZID=Europe/Berlin:20260306T180000
DTSTAMP:20260420T094913
CREATED:20260212T151331Z
LAST-MODIFIED:20260212T151331Z
UID:4804-1772820000-1772820000@xn--kschv-lbeck-zhb.de
SUMMARY:RWK LG 1.10 und LuPi 2.10 DSB
DESCRIPTION:20:30
URL:https://xn--kschv-lbeck-zhb.de/event/rwk-lg-1-10-und-lupi-2-10-dsb-2/
LOCATION:Lübecker Sportschützen e.V.\, Wesloer Landstr. 11\, Lübeck\, 23566\, Deutschland
END:VEVENT
BEGIN:VEVENT
DTSTART;TZID=Europe/Berlin:20260307T130000
DTEND;TZID=Europe/Berlin:20260307T130000
DTSTAMP:20260420T094913
CREATED:20260212T151337Z
LAST-MODIFIED:20260212T151337Z
UID:4811-1772888400-1772888400@xn--kschv-lbeck-zhb.de
SUMMARY:RWK SpoPi 2.40 DSB
DESCRIPTION:15:30
URL:https://xn--kschv-lbeck-zhb.de/event/rwk-spopi-2-40-dsb-6/
LOCATION:Lübecker Schützenverein von 1839 e.V.\, Sankt Hubertus 1\, Groß Grönau\, 23627\, Deutschland
END:VEVENT
BEGIN:VEVENT
DTSTART;TZID=Europe/Berlin:20260311T150000
DTEND;TZID=Europe/Berlin:20260311T150000
DTSTAMP:20260420T094913
CREATED:20260212T151351Z
LAST-MODIFIED:20260212T151351Z
UID:4816-1773241200-1773241200@xn--kschv-lbeck-zhb.de
SUMMARY:RWK KK-Auflage 100 Meter 1.36 DSB ZF+Diopter
DESCRIPTION:17:00
URL:https://xn--kschv-lbeck-zhb.de/event/rwk-kk-auflage-100-meter-1-36-dsb-zfdiopter-2/
LOCATION:Hubertusgilde Kücknitz von 1954 e.V.\, Vorderteichweg 29\, Lübeck\, 23569
END:VEVENT
BEGIN:VEVENT
DTSTART;TZID=Europe/Berlin:20260314T130000
DTEND;TZID=Europe/Berlin:20260314T130000
DTSTAMP:20260420T094913
CREATED:20260212T151332Z
LAST-MODIFIED:20260212T151332Z
UID:4807-1773493200-1773493200@xn--kschv-lbeck-zhb.de
SUMMARY:RWK KK-Auflage 50 Meter DSB ZF+Diopter
DESCRIPTION:15:30
URL:https://xn--kschv-lbeck-zhb.de/event/rwk-kk-auflage-50-meter-dsb-zfdiopter/
END:VEVENT
BEGIN:VEVENT
DTSTART;TZID=Europe/Berlin:20260321T130000
DTEND;TZID=Europe/Berlin:20260321T130000
DTSTAMP:20260420T094913
CREATED:20260212T151337Z
LAST-MODIFIED:20260212T151337Z
UID:4812-1774098000-1774098000@xn--kschv-lbeck-zhb.de
SUMMARY:RWK SpoPi 2.40 DSB
DESCRIPTION:15:30
URL:https://xn--kschv-lbeck-zhb.de/event/rwk-spopi-2-40-dsb-7/
LOCATION:Lübecker Schützenverein von 1839 e.V.\, Sankt Hubertus 1\, Groß Grönau\, 23627\, Deutschland
END:VEVENT
BEGIN:VEVENT
DTSTART;TZID=Europe/Berlin:20260325T150000
DTEND;TZID=Europe/Berlin:20260325T150000
DTSTAMP:20260420T094913
CREATED:20260212T151352Z
LAST-MODIFIED:20260212T151352Z
UID:4817-1774450800-1774450800@xn--kschv-lbeck-zhb.de
SUMMARY:RWK KK-Auflage 100 Meter 1.36 DSB ZF+Diopter
DESCRIPTION:17:00
URL:https://xn--kschv-lbeck-zhb.de/event/rwk-kk-auflage-100-meter-1-36-dsb-zfdiopter-3/
LOCATION:Hubertusgilde Kücknitz von 1954 e.V.\, Vorderteichweg 29\, Lübeck\, 23569
END:VEVENT
BEGIN:VEVENT
DTSTART;TZID=Europe/Berlin:20260328T130000
DTEND;TZID=Europe/Berlin:20260328T130000
DTSTAMP:20260420T094913
CREATED:20260212T151335Z
LAST-MODIFIED:20260212T151335Z
UID:4808-1774702800-1774702800@xn--kschv-lbeck-zhb.de
SUMMARY:RWK KK-Auflage 50 Meter DSB ZF+Diopter
DESCRIPTION:15:30
URL:https://xn--kschv-lbeck-zhb.de/event/rwk-kk-auflage-50-meter-dsb-zfdiopter-2/
END:VEVENT
END:VCALENDAR