BEGIN:VCALENDAR
VERSION:2.0
PRODID:-// - ECPv6.15.16//NONSGML v1.0//EN
CALSCALE:GREGORIAN
METHOD:PUBLISH
X-ORIGINAL-URL:https://xn--kschv-lbeck-zhb.de
X-WR-CALDESC:Veranstaltungen für 
REFRESH-INTERVAL;VALUE=DURATION:PT1H
X-Robots-Tag:noindex
X-PUBLISHED-TTL:PT1H
BEGIN:VTIMEZONE
TZID:Europe/Berlin
BEGIN:DAYLIGHT
TZOFFSETFROM:+0100
TZOFFSETTO:+0200
TZNAME:CEST
DTSTART:20240331T010000
END:DAYLIGHT
BEGIN:STANDARD
TZOFFSETFROM:+0200
TZOFFSETTO:+0100
TZNAME:CET
DTSTART:20241027T010000
END:STANDARD
BEGIN:DAYLIGHT
TZOFFSETFROM:+0100
TZOFFSETTO:+0200
TZNAME:CEST
DTSTART:20250330T010000
END:DAYLIGHT
BEGIN:STANDARD
TZOFFSETFROM:+0200
TZOFFSETTO:+0100
TZNAME:CET
DTSTART:20251026T010000
END:STANDARD
BEGIN:DAYLIGHT
TZOFFSETFROM:+0100
TZOFFSETTO:+0200
TZNAME:CEST
DTSTART:20260329T010000
END:DAYLIGHT
BEGIN:STANDARD
TZOFFSETFROM:+0200
TZOFFSETTO:+0100
TZNAME:CET
DTSTART:20261025T010000
END:STANDARD
END:VTIMEZONE
BEGIN:VEVENT
DTSTART;VALUE=DATE:20250517
DTEND;VALUE=DATE:20250518
DTSTAMP:20260422T134201
CREATED:20250317T225144Z
LAST-MODIFIED:20250317T225144Z
UID:4209-1747440000-1747526399@xn--kschv-lbeck-zhb.de
SUMMARY:Hanseatenschiessen
DESCRIPTION:
URL:https://xn--kschv-lbeck-zhb.de/event/hanseatenschiessen/
LOCATION:Hollenstedter Schützenverein v. 1877 e.V.\, Schützenholz 1\, Hollenstedt\, Niedersachsen\, 21279\, Germany
END:VEVENT
BEGIN:VEVENT
DTSTART;TZID=Europe/Berlin:20250518T100000
DTEND;TZID=Europe/Berlin:20250518T100000
DTSTAMP:20260422T134201
CREATED:20241022T203826Z
LAST-MODIFIED:20241022T203826Z
UID:3603-1747562400-1747562400@xn--kschv-lbeck-zhb.de
SUMMARY:KM  Bogen FITA im Freien 6.10.
DESCRIPTION:MS durch Landesverband noch nicht bekannt gegeben Update folgt
URL:https://xn--kschv-lbeck-zhb.de/event/km-bogen-fita-im-freien-6-10/
LOCATION:Ringstedtenhof\, Vorrader Str. 81\, Lübeck\, 23560\, Germany
CATEGORIES:Kreismeisterschaft
END:VEVENT
END:VCALENDAR