BEGIN:VCALENDAR
VERSION:2.0
PRODID:-// - ECPv6.15.16//NONSGML v1.0//EN
CALSCALE:GREGORIAN
METHOD:PUBLISH
X-ORIGINAL-URL:https://xn--kschv-lbeck-zhb.de
X-WR-CALDESC:Veranstaltungen für 
REFRESH-INTERVAL;VALUE=DURATION:PT1H
X-Robots-Tag:noindex
X-PUBLISHED-TTL:PT1H
BEGIN:VTIMEZONE
TZID:Europe/Berlin
BEGIN:DAYLIGHT
TZOFFSETFROM:+0100
TZOFFSETTO:+0200
TZNAME:CEST
DTSTART:20240331T010000
END:DAYLIGHT
BEGIN:STANDARD
TZOFFSETFROM:+0200
TZOFFSETTO:+0100
TZNAME:CET
DTSTART:20241027T010000
END:STANDARD
BEGIN:DAYLIGHT
TZOFFSETFROM:+0100
TZOFFSETTO:+0200
TZNAME:CEST
DTSTART:20250330T010000
END:DAYLIGHT
BEGIN:STANDARD
TZOFFSETFROM:+0200
TZOFFSETTO:+0100
TZNAME:CET
DTSTART:20251026T010000
END:STANDARD
BEGIN:DAYLIGHT
TZOFFSETFROM:+0100
TZOFFSETTO:+0200
TZNAME:CEST
DTSTART:20260329T010000
END:DAYLIGHT
BEGIN:STANDARD
TZOFFSETFROM:+0200
TZOFFSETTO:+0100
TZNAME:CET
DTSTART:20261025T010000
END:STANDARD
END:VTIMEZONE
BEGIN:VEVENT
DTSTART;TZID=Europe/Berlin:20250404T000000
DTEND;TZID=Europe/Berlin:20250404T000000
DTSTAMP:20260422T150335
CREATED:20241022T203826Z
LAST-MODIFIED:20241022T210800Z
UID:3601-1743724800-1743724800@xn--kschv-lbeck-zhb.de
SUMMARY:KM  Blasrohrschießen 12.10
DESCRIPTION:auf Anfrage
URL:https://xn--kschv-lbeck-zhb.de/event/km-blasrohrschiessen-12-10/
LOCATION:Lübecker Sportschützen e.V.\, Wesloer Landstr. 11\, Lübeck\, 23566\, Deutschland
CATEGORIES:Kreismeisterschaft
END:VEVENT
BEGIN:VEVENT
DTSTART;TZID=Europe/Berlin:20250404T000000
DTEND;TZID=Europe/Berlin:20250404T000000
DTSTAMP:20260422T150335
CREATED:20241022T203826Z
LAST-MODIFIED:20241022T210845Z
UID:3602-1743724800-1743724800@xn--kschv-lbeck-zhb.de
SUMMARY:KM  Lichtschießen 11.10
DESCRIPTION:auf Anfrage
URL:https://xn--kschv-lbeck-zhb.de/event/km-lichtschiessen-11-10/
LOCATION:Lübecker Sportschützen e.V.\, Wesloer Landstr. 11\, Lübeck\, 23566\, Deutschland
CATEGORIES:Kreismeisterschaft
END:VEVENT
BEGIN:VEVENT
DTSTART;TZID=Europe/Berlin:20250404T100000
DTEND;TZID=Europe/Berlin:20250404T100000
DTSTAMP:20260422T150335
CREATED:20241022T203811Z
LAST-MODIFIED:20241022T203811Z
UID:3599-1743760800-1743760800@xn--kschv-lbeck-zhb.de
SUMMARY:KM  Armbrust 30 m nat.Scheibe 5.31
DESCRIPTION:letzter Abgabetermin
URL:https://xn--kschv-lbeck-zhb.de/event/km-armbrust-30-m-nat-scheibe-5-31/
LOCATION:Lübecker Sportschützen e.V.\, Wesloer Landstr. 11\, Lübeck\, 23566\, Deutschland
CATEGORIES:Kreismeisterschaft
END:VEVENT
BEGIN:VEVENT
DTSTART;TZID=Europe/Berlin:20250404T100000
DTEND;TZID=Europe/Berlin:20250404T100000
DTSTAMP:20260422T150335
CREATED:20241022T203826Z
LAST-MODIFIED:20241022T203826Z
UID:3600-1743760800-1743760800@xn--kschv-lbeck-zhb.de
SUMMARY:KM  Armbrust 30 m 5.20
DESCRIPTION:letzter Abgabetermin
URL:https://xn--kschv-lbeck-zhb.de/event/km-armbrust-30-m-5-20/
LOCATION:Lübecker Sportschützen e.V.\, Wesloer Landstr. 11\, Lübeck\, 23566\, Deutschland
CATEGORIES:Kreismeisterschaft
END:VEVENT
BEGIN:VEVENT
DTSTART;TZID=Europe/Berlin:20250408T170000
DTEND;TZID=Europe/Berlin:20250408T193000
DTSTAMP:20260422T150335
CREATED:20250320T213908Z
LAST-MODIFIED:20250320T213908Z
UID:4236-1744131600-1744140600@xn--kschv-lbeck-zhb.de
SUMMARY:Kreiskönigschießen
DESCRIPTION:
URL:https://xn--kschv-lbeck-zhb.de/event/kreiskoenigschiessen-2/
LOCATION:Schützenverein Moisling von 1971 e.V.\, August-Bebel-Straße 57\, Lübeck\, 23560
END:VEVENT
BEGIN:VEVENT
DTSTART;TZID=Europe/Berlin:20250408T193000
DTEND;TZID=Europe/Berlin:20250408T210000
DTSTAMP:20260422T150335
CREATED:20250319T142008Z
LAST-MODIFIED:20250319T142008Z
UID:4211-1744140600-1744146000@xn--kschv-lbeck-zhb.de
SUMMARY:Kreisschützentag
DESCRIPTION:
URL:https://xn--kschv-lbeck-zhb.de/event/kreisschuetzentag/
LOCATION:Schützenverein Moisling von 1971 e.V.\, August-Bebel-Straße 57\, Lübeck\, 23560
END:VEVENT
BEGIN:VEVENT
DTSTART;TZID=Europe/Berlin:20250409T180000
DTEND;TZID=Europe/Berlin:20250409T210000
DTSTAMP:20260422T150335
CREATED:20250214T223718Z
LAST-MODIFIED:20250214T223718Z
UID:4048-1744221600-1744232400@xn--kschv-lbeck-zhb.de
SUMMARY:Waffen-Sachkundelehrgang gem § 7 WaffG
DESCRIPTION:
URL:https://xn--kschv-lbeck-zhb.de/event/waffen-sachkundelehrgang-gem-%c2%a7-7-waffg-2/
LOCATION:Lübecker Schützenverein von 1839 e.V.\, Sankt Hubertus 1\, Groß Grönau\, 23627\, Deutschland
END:VEVENT
BEGIN:VEVENT
DTSTART;TZID=Europe/Berlin:20250412T190000
DTEND;TZID=Europe/Berlin:20250412T230000
DTSTAMP:20260422T150335
CREATED:20250320T214042Z
LAST-MODIFIED:20250320T214310Z
UID:4238-1744484400-1744498800@xn--kschv-lbeck-zhb.de
SUMMARY:Kreiskönigsproklamation
DESCRIPTION:Einlass ab 18 Uhr
URL:https://xn--kschv-lbeck-zhb.de/event/kreiskoenigsproklamation-2/
LOCATION:Gaststätte “Zur Blockhütte”\, Koggenweg 1\, Lübeck\, 23558\, Deutschland
END:VEVENT
BEGIN:VEVENT
DTSTART;TZID=Europe/Berlin:20250415T180000
DTEND;TZID=Europe/Berlin:20250415T210000
DTSTAMP:20260422T150335
CREATED:20250214T223759Z
LAST-MODIFIED:20250214T223759Z
UID:4050-1744740000-1744750800@xn--kschv-lbeck-zhb.de
SUMMARY:Waffen-Sachkundelehrgang gem § 7 WaffG
DESCRIPTION:
URL:https://xn--kschv-lbeck-zhb.de/event/waffen-sachkundelehrgang-gem-%c2%a7-7-waffg-3/
LOCATION:Lübecker Schützenverein von 1839 e.V.\, Sankt Hubertus 1\, Groß Grönau\, 23627\, Deutschland
END:VEVENT
BEGIN:VEVENT
DTSTART;TZID=Europe/Berlin:20250416T180000
DTEND;TZID=Europe/Berlin:20250416T210000
DTSTAMP:20260422T150335
CREATED:20250214T223835Z
LAST-MODIFIED:20250214T223835Z
UID:4052-1744826400-1744837200@xn--kschv-lbeck-zhb.de
SUMMARY:Waffen-Sachkundelehrgang gem § 7 WaffG
DESCRIPTION:
URL:https://xn--kschv-lbeck-zhb.de/event/waffen-sachkundelehrgang-gem-%c2%a7-7-waffg-4/
LOCATION:Lübecker Schützenverein von 1839 e.V.\, Sankt Hubertus 1\, Groß Grönau\, 23627\, Deutschland
END:VEVENT
BEGIN:VEVENT
DTSTART;TZID=Europe/Berlin:20250422T180000
DTEND;TZID=Europe/Berlin:20250422T210000
DTSTAMP:20260422T150335
CREATED:20250214T223913Z
LAST-MODIFIED:20250214T223913Z
UID:4054-1745344800-1745355600@xn--kschv-lbeck-zhb.de
SUMMARY:Waffen-Sachkundelehrgang gem § 7 WaffG
DESCRIPTION:
URL:https://xn--kschv-lbeck-zhb.de/event/waffen-sachkundelehrgang-gem-%c2%a7-7-waffg-5/
LOCATION:Lübecker Schützenverein von 1839 e.V.\, Sankt Hubertus 1\, Groß Grönau\, 23627\, Deutschland
END:VEVENT
BEGIN:VEVENT
DTSTART;TZID=Europe/Berlin:20250423T180000
DTEND;TZID=Europe/Berlin:20250423T210000
DTSTAMP:20260422T150335
CREATED:20250214T223943Z
LAST-MODIFIED:20250214T223943Z
UID:4056-1745431200-1745442000@xn--kschv-lbeck-zhb.de
SUMMARY:Waffen-Sachkundelehrgang gem § 7 WaffG
DESCRIPTION:
URL:https://xn--kschv-lbeck-zhb.de/event/waffen-sachkundelehrgang-gem-%c2%a7-7-waffg-6/
LOCATION:Lübecker Schützenverein von 1839 e.V.\, Sankt Hubertus 1\, Groß Grönau\, 23627\, Deutschland
END:VEVENT
BEGIN:VEVENT
DTSTART;TZID=Europe/Berlin:20250427T100000
DTEND;TZID=Europe/Berlin:20250427T170000
DTSTAMP:20260422T150335
CREATED:20240519T185625Z
LAST-MODIFIED:20250202T172802Z
UID:2706-1745748000-1745773200@xn--kschv-lbeck-zhb.de
SUMMARY:Landesschützentag 2025
DESCRIPTION:
URL:https://xn--kschv-lbeck-zhb.de/event/landesschuetzentag-in-eckernfoerde/
LOCATION:Hotel ConventGarten\, Hindenburgstrasse 38-42\, Rendsburg\, Schl.-Holst.\, 24768\, Germany
END:VEVENT
BEGIN:VEVENT
DTSTART;TZID=Europe/Berlin:20250429T180000
DTEND;TZID=Europe/Berlin:20250429T210000
DTSTAMP:20260422T150335
CREATED:20250214T224030Z
LAST-MODIFIED:20250214T224030Z
UID:4058-1745949600-1745960400@xn--kschv-lbeck-zhb.de
SUMMARY:Waffen-Sachkundelehrgang gem § 7 WaffG
DESCRIPTION:
URL:https://xn--kschv-lbeck-zhb.de/event/waffen-sachkundelehrgang-gem-%c2%a7-7-waffg-7/
LOCATION:Lübecker Schützenverein von 1839 e.V.\, Sankt Hubertus 1\, Groß Grönau\, 23627\, Deutschland
END:VEVENT
BEGIN:VEVENT
DTSTART;TZID=Europe/Berlin:20250430T180000
DTEND;TZID=Europe/Berlin:20250430T210000
DTSTAMP:20260422T150335
CREATED:20250214T224112Z
LAST-MODIFIED:20250214T224112Z
UID:4060-1746036000-1746046800@xn--kschv-lbeck-zhb.de
SUMMARY:Waffen-Sachkundelehrgang gem § 7 WaffG (Prüfung)
DESCRIPTION:
URL:https://xn--kschv-lbeck-zhb.de/event/waffen-sachkundelehrgang-gem-%c2%a7-7-waffg-pruefung/
LOCATION:Lübecker Schützenverein von 1839 e.V.\, Sankt Hubertus 1\, Groß Grönau\, 23627\, Deutschland
END:VEVENT
END:VCALENDAR